{
 "currentVersion": 10.81,
 "serviceDescription": "Imagen",
 "name": "Consumo/img",
 "description": "Imagen",
 "extent": {
  "xmin": 651110,
  "ymin": 4207120,
  "xmax": 666560,
  "ymax": 4239840,
  "spatialReference": {
   "wkid": 25830,
   "latestWkid": 25830
  }
 },
 "initialExtent": {
  "xmin": 651110,
  "ymin": 4207120,
  "xmax": 666560,
  "ymax": 4239840,
  "spatialReference": {
   "wkid": 25830,
   "latestWkid": 25830
  }
 },
 "fullExtent": {
  "xmin": 651110,
  "ymin": 4207120,
  "xmax": 666560,
  "ymax": 4239840,
  "spatialReference": {
   "wkid": 25830,
   "latestWkid": 25830
  }
 },
 "pixelSizeX": 0.5,
 "pixelSizeY": 0.5,
 "bandCount": 3,
 "pixelType": "S16",
 "minPixelSize": 0.13229193125052918,
 "maxPixelSize": 33072.9828126323,
 "copyrightText": "SERCOMOSA",
 "serviceDataType": "esriImageServiceDataTypeGeneric",
 "minValues": [
  0,
  6,
  0
 ],
 "maxValues": [
  255,
  255,
  255
 ],
 "meanValues": [
  119.08933697427011,
  124.17243425790194,
  124.56950918282315
 ],
 "stdvValues": [
  46.692735611491734,
  46.22396864037167,
  42.675825542584036
 ],
 "objectIdField": "",
 "fields": [],
 "capabilities": "Image,Metadata,Mensuration",
 "defaultMosaicMethod": "Center",
 "allowedMosaicMethods": "",
 "sortField": "",
 "sortValue": null,
 "sortAscending": true,
 "mosaicOperator": "First",
 "defaultCompressionQuality": 75,
 "defaultResamplingMethod": "Bilinear",
 "maxImageHeight": 4100,
 "maxImageWidth": 15000,
 "singleFusedMapCache": true,
 "tileInfo": {
  "rows": 256,
  "cols": 256,
  "dpi": 96,
  "format": "MIXED",
  "compressionQuality": 75,
  "origin": {
   "x": -5120900,
   "y": 9998100
  },
  "spatialReference": {
   "wkid": 25830,
   "latestWkid": 25830
  },
  "lods": [
   {
    "level": 0,
    "resolution": 33072.9828126323,
    "scale": 125000000
   },
   {
    "level": 1,
    "resolution": 16933.367200067736,
    "scale": 64000000
   },
   {
    "level": 2,
    "resolution": 8466.683600033868,
    "scale": 32000000
   },
   {
    "level": 3,
    "resolution": 4233.341800016934,
    "scale": 16000000
   },
   {
    "level": 4,
    "resolution": 2116.670900008467,
    "scale": 8000000
   },
   {
    "level": 5,
    "resolution": 1058.3354500042335,
    "scale": 4000000
   },
   {
    "level": 6,
    "resolution": 529.1677250021168,
    "scale": 2000000
   },
   {
    "level": 7,
    "resolution": 264.5838625010584,
    "scale": 1000000
   },
   {
    "level": 8,
    "resolution": 132.2919312505292,
    "scale": 500000
   },
   {
    "level": 9,
    "resolution": 66.1459656252646,
    "scale": 250000
   },
   {
    "level": 10,
    "resolution": 33.0729828126323,
    "scale": 125000
   },
   {
    "level": 11,
    "resolution": 16.933367200067735,
    "scale": 64000
   },
   {
    "level": 12,
    "resolution": 8.466683600033868,
    "scale": 32000
   },
   {
    "level": 13,
    "resolution": 4.233341800016934,
    "scale": 16000
   },
   {
    "level": 14,
    "resolution": 2.116670900008467,
    "scale": 8000
   },
   {
    "level": 15,
    "resolution": 1.0583354500042335,
    "scale": 4000
   },
   {
    "level": 16,
    "resolution": 0.5291677250021167,
    "scale": 2000
   },
   {
    "level": 17,
    "resolution": 0.26458386250105836,
    "scale": 1000
   },
   {
    "level": 18,
    "resolution": 0.13229193125052918,
    "scale": 500
   }
  ]
 },
 "cacheType": "Map",
 "allowRasterFunction": true,
 "rasterFunctionInfos": [
  {
   "name": "None",
   "description": "",
   "help": ""
  }
 ],
 "rasterTypeInfos": [
  {
   "name": "Raster Dataset",
   "description": "Supports all ArcGIS Raster Datasets",
   "help": ""
  }
 ],
 "mensurationCapabilities": "Basic",
 "hasHistograms": false,
 "hasColormap": false,
 "hasRasterAttributeTable": false,
 "minScale": 125000000,
 "maxScale": 500,
 "exportTilesAllowed": false,
 "hasMultidimensions": false,
 "supportsStatistics": false,
 "supportsAdvancedQueries": false,
 "editFieldsInfo": null,
 "ownershipBasedAccessControlForRasters": null,
 "allowComputeTiePoints": false,
 "useStandardizedQueries": true,
 "advancedQueryCapabilities": {
  "useStandardizedQueries": true,
  "supportsStatistics": false,
  "supportsOrderBy": false,
  "supportsDistinct": false,
  "supportsPagination": false
 },
 "spatialReference": {
  "wkid": 25830,
  "latestWkid": 25830
 }
}
