View In:
ArcGIS JavaScript
ArcGIS Online Map Viewer
ArcGIS Earth
ArcMap
View Footprint In:
ArcGIS Online Map Viewer
Service Description: Imagen
Name: Consumo/img
Description: Imagen
Single Fused Map Cache: true
Tile Info:
- Height: 256
- Width: 256
- DPI: 96
-
Levels of Detail: 19
- Format: MIXED
- Compression Quality: 75.0
- LERC Error: NaN
- Origin: X: -5120900.0
Y: 9998100.0
- Spatial Reference: 25830
(25830)
Extent:
XMin: 651110
YMin: 4207120
XMax: 666560
YMax: 4239840
Spatial Reference: 25830
(25830)
Initial Extent:
XMin: 651110
YMin: 4207120
XMax: 666560
YMax: 4239840
Spatial Reference: 25830
(25830)
Full Extent:
XMin: 651110
YMin: 4207120
XMax: 666560
YMax: 4239840
Spatial Reference: 25830
(25830)
Pixel Size X: 0.5
Pixel Size Y: 0.5
Band Count: 3
Pixel Type: S16
RasterFunction Infos: {"rasterFunctionInfos": [{
"name": "None",
"description": "",
"help": ""
}]}
Mensuration Capabilities: Basic
Has Histograms: false
Has Colormap: false
Has Multi Dimensions : false
Rendering Rule:
Min Scale: 125000000
Max Scale: 500
Copyright Text: SERCOMOSA
Service Data Type: esriImageServiceDataTypeGeneric
Min Values: 0, 6, 0
Max Values: 255, 255, 255
Mean Values: 119.08933697427011, 124.17243425790194, 124.56950918282315
Standard Deviation Values: 46.692735611491734, 46.22396864037167, 42.675825542584036
Object ID Field:
Fields:
None
Default Mosaic Method: Center
Allowed Mosaic Methods:
SortField:
SortValue: null
Mosaic Operator: First
Default Compression Quality: 75
Default Resampling Method: Bilinear
Max Record Count: null
Max Image Height: 4100
Max Image Width: 15000
Max Download Image Count: null
Max Mosaic Image Count: null
Allow Raster Function: true
Allow Copy: null
Allow Analysis: null
Allow Compute TiePoints: false
Supports Statistics: false
Supports Advanced Queries: false
Use StandardizedQueries: true
Raster Type Infos:
Name: Raster Dataset
Description: Supports all ArcGIS Raster Datasets
Help:
Has Raster Attribute Table: false
Edit Fields Info: null
Ownership Based AccessControl For Rasters: null
Child Resources:
Info
Key Properties
Legend
Raster Function Infos
Supported Operations:
Export Image
Identify
Measure
Compute Histograms
Compute Statistics Histograms
Get Samples
Compute Class Statistics
Query Boundary
Compute Pixel Location
Validate
Project